BEGIN:VCALENDAR
VERSION:2.0
PRODID:-//wp-events-plugin.com//7.2.3.1//EN
TZID:America/New_York
X-WR-TIMEZONE:America/New_York
BEGIN:VEVENT
UID:48@templeemanuelmd.org
DTSTART;TZID=America/New_York;VALUE=DATE:20030106
DTEND;TZID=America/New_York;VALUE=DATE:20030107
DTSTAMP:20220708T195053Z
URL:https://www.templeemanuelmd.org/events/tu-bshvat/
SUMMARY:Tu B'Shvat
DESCRIPTION:
CATEGORIES:Worship and Holidays
END:VEVENT
BEGIN:VEVENT
UID:50@templeemanuelmd.org
DTSTART;TZID=America/New_York;VALUE=DATE:20030206
DTEND;TZID=America/New_York;VALUE=DATE:20030207
DTSTAMP:20220708T195735Z
URL:https://www.templeemanuelmd.org/events/tu-bshevat/
SUMMARY:Tu B'Shevat
DESCRIPTION:
CATEGORIES:Worship and Holidays
END:VEVENT
BEGIN:VEVENT
UID:49@templeemanuelmd.org
DTSTART;TZID=America/New_York:20030306T190000
DTEND;TZID=America/New_York:20030306T203000
DTSTAMP:20220708T195414Z
URL:https://www.templeemanuelmd.org/events/purim-spiel/
SUMMARY:Purim Spiel
DESCRIPTION:
CATEGORIES:Worship and Holidays
END:VEVENT
BEGIN:VEVENT
UID:1@templeemanuelmd.org
DTSTART:20220506T150000Z
DTEND:20220506T150000Z
DTSTAMP:20220322T162712Z
URL:https://www.templeemanuelmd.org/events/teacher-appreciation-shabbat/
SUMMARY:Teacher Appreciation Shabbat
DESCRIPTION:
END:VEVENT
BEGIN:VEVENT
UID:2@templeemanuelmd.org
DTSTART;TZID=America/New_York:20220603T183000
DTEND;TZID=America/New_York:20220603T183000
DTSTAMP:20220518T151317Z
URL:https://www.templeemanuelmd.org/events/kabbalat-shabbat-celebration-fo
 r-our-high-school-graduates/
SUMMARY:Kabbalat Shabbat Celebration for Our High School Graduates
DESCRIPTION:We celebrate Shabbat and honor High School graduates with a spe
 cial blessing. Students will be leading parts of the service and sharing t
 heir takeaways from their High School years. Students and families are inv
 ited to a Shabbat dinner following the service.
END:VEVENT
BEGIN:VEVENT
UID:3@templeemanuelmd.org
DTSTART;TZID=America/New_York:20220604T183000
DTEND;TZID=America/New_York:20220604T183000
DTSTAMP:20220518T151347Z
URL:https://www.templeemanuelmd.org/events/erev-shavuot-confirmation-in-ga
 n-emanuel/
SUMMARY:Erev Shavuot & Confirmation in Gan Emanuel
DESCRIPTION:We celebrate Shavuot as our 10th graders lead us in their confi
 rmation service. As we remember the giving of the Torah by God to Moses on
  Mount Sinai\, we honor our next teachers of Torah\, our confirmands\, wit
 h a special service where they will share what Judaism means to them. The 
 service will be followed by an oneg.
END:VEVENT
BEGIN:VEVENT
UID:4@templeemanuelmd.org
DTSTART;TZID=America/New_York:20220605T100000
DTEND;TZID=America/New_York:20220605T100000
DTSTAMP:20220518T151422Z
URL:https://www.templeemanuelmd.org/events/shavuot-morning-community-festi
 val-service-in-gan-emanuel/
SUMMARY:Shavuot Morning Community Festival Service in Gan Emanuel
DESCRIPTION:With our friends from Temple Shalom and Temple Sinai we observe
  the Festival of Shavuot with a special service that includes Hallel\, a j
 oyous recitation of Psalms praising God\, the reading of the 10 Commandmen
 ts\, and Yizkor to remember our loved ones. The service will be followed b
 y a light lunch.
END:VEVENT
BEGIN:VEVENT
UID:5@templeemanuelmd.org
DTSTART;TZID=America/New_York:20220610T183000
DTEND;TZID=America/New_York:20220610T183000
DTSTAMP:20220518T151457Z
URL:https://www.templeemanuelmd.org/events/pride-shabbat-service/
SUMMARY:Pride Shabbat Service
DESCRIPTION:We celebrate Pride with a festive service led by our Clergy and
  the Mizmor L’Shabbat band. Our guest speaker this year is Marc Tannen\,
  a friend of Rabbi Rosenwasser’s\, creator of “Broken Chains”\, an o
 ngoing documentary about the lives of gay Orthodox and ex-Orthodox Jews. M
 arc will present highlights of his research and several clips from the fil
 m\, one featuring Rabbi Rosenwasser’s husband\, Shalom Rosenberg. Q&amp\
 ;A will follow the service.
END:VEVENT
BEGIN:VEVENT
UID:14@templeemanuelmd.org
DTSTART;TZID=America/New_York:20220701T183000
DTEND;TZID=America/New_York:20220701T193000
DTSTAMP:20220701T144905Z
URL:https://www.templeemanuelmd.org/events/kabbalat-shabbat-2022-07-01/
SUMMARY:Kabbalat Shabbat
DESCRIPTION:We invite you to join us in-person at 6:00 pm for a half hour o
 f wine and cheese. A sweet\, joyful and shorter Shabbat service begins at 
 6:30.
CATEGORIES:Worship and Holidays
LOCATION:https://us06web.zoom.us/j/81560052518?pwd=ZUs3T256UGpuKzVlc0VCdVU4
 b2NCUT09
END:VEVENT
BEGIN:VEVENT
UID:23@templeemanuelmd.org
DTSTART;TZID=America/New_York;VALUE=DATE:20220704
DTEND;TZID=America/New_York;VALUE=DATE:20220705
DTSTAMP:20220701T141758Z
URL:https://www.templeemanuelmd.org/events/4th-of-july/
SUMMARY:4th of July
DESCRIPTION:Have a safe and happy Fourth of July!
CATEGORIES:Featured
END:VEVENT
BEGIN:VEVENT
UID:15@templeemanuelmd.org
DTSTART;TZID=America/New_York:20220708T183000
DTEND;TZID=America/New_York:20220708T193000
DTSTAMP:20220701T144905Z
URL:https://www.templeemanuelmd.org/events/kabbalat-shabbat-2022-07-08/
SUMMARY:Kabbalat Shabbat
DESCRIPTION:We invite you to join us in-person at 6:00 pm for a half hour o
 f wine and cheese. A sweet\, joyful and shorter Shabbat service begins at 
 6:30.
CATEGORIES:Worship and Holidays
LOCATION:https://us06web.zoom.us/j/81560052518?pwd=ZUs3T256UGpuKzVlc0VCdVU4
 b2NCUT09
END:VEVENT
BEGIN:VEVENT
UID:30@templeemanuelmd.org
DTSTART;TZID=America/New_York:20220713T170000
DTEND;TZID=America/New_York:20220713T170000
DTSTAMP:20220708T153437Z
URL:https://www.templeemanuelmd.org/events/get-together-at-lone-oak-brewer
 y/
SUMMARY:Get Together at Lone Oak Brewery
DESCRIPTION:Sponsored by Brotherhood - all are invited to gather at Lone Oa
 k Brewery. Bring a guest and an outdoor chair! Lone Oak is child friendly\
 ; dogs on leashes welcome. Food and drinks available for purchase\; no out
 side alcohol (you can bring your own food). No charge to attend.\n\nRSVP t
 o Shean Grossman\, ssdrossman@gmail.com.
CATEGORIES:Brotherhood,Featured,Temple Activities
END:VEVENT
BEGIN:VEVENT
UID:31@templeemanuelmd.org
DTSTART;TZID=America/New_York:20220715T173000
DTEND;TZID=America/New_York:20220715T180000
DTSTAMP:20220708T175615Z
URL:https://www.templeemanuelmd.org/events/tot-shabbat/
SUMMARY:Tot Shabbat
DESCRIPTION:Families with young children are invited to join the clergy for
  singing\, dancing\, and an awesome Tot Shabbat in the Temple courtyard  
 at 5:30pm.
CATEGORIES:ECC,Featured,Worship and Holidays
END:VEVENT
BEGIN:VEVENT
UID:16@templeemanuelmd.org
DTSTART;TZID=America/New_York:20220715T183000
DTEND;TZID=America/New_York:20220715T193000
DTSTAMP:20220701T144905Z
URL:https://www.templeemanuelmd.org/events/kabbalat-shabbat-2022-07-15/
SUMMARY:Kabbalat Shabbat
DESCRIPTION:We invite you to join us in-person at 6:00 pm for a half hour o
 f wine and cheese. A sweet\, joyful and shorter Shabbat service begins at 
 6:30.
CATEGORIES:Worship and Holidays
LOCATION:https://us06web.zoom.us/j/81560052518?pwd=ZUs3T256UGpuKzVlc0VCdVU4
 b2NCUT09
END:VEVENT
BEGIN:VEVENT
UID:24@templeemanuelmd.org
DTSTART;TZID=America/New_York:20220717T084500
DTEND;TZID=America/New_York:20220717T093000
DTSTAMP:20220701T144741Z
URL:https://www.templeemanuelmd.org/events/marthas-table-sandwich-collecti
 on/
SUMMARY:Martha's Table Sandwich Collection
DESCRIPTION:"Spread the Love"\nDrop off at Temple Emanuel (in the parking l
 ot)\n\nNow more than ever\, charities need our help supporting their food 
 programs and you can help Martha's Table feed its clients. If you would li
 ke to participate in the next round of this kid and family-friendly effo
 rt\, here are the details:\n\n 	Make either Peanut Butter &amp\; Jelly* or
  Cheese sandwiches on whole wheat bread (whole wheat only\, no condiments 
 please).\n 	Wrap each sandwich individually\, and label PB&amp\;J or C.\n 
 	Place all the same type of sandwiches in one bag.\n 	Bring them to the Te
 mple on the day of drop-off.\n 	You can also and are encouraged to buy/mak
 e Trail Mix or healthy muffins (great for kids too!)  Please be sure to 
 individually wrap the muffins and have trail mix in baggies\n\nPlease drop
  off to Shazi Spieler\, who will be parked near the bamboo in a green Alfa
  Romeo to collect the sandwiches. If you have any questions\, please conta
 ct Shazi at:\nshazbone@gmail.com.\n\n*Please remember not to bring the PB&
 amp\;J sandwiches into the synagogue.
CATEGORIES:Featured,Temple Activities
LOCATION:Temple Emanuel\, 10101 Connecticut Avenue\, Kensington\, Maryland\
 , 20895\, United States
X-APPLE-STRUCTURED-LOCATION;VALUE=URI;X-ADDRESS=10101 Connecticut Avenue\, 
 Kensington\, Maryland\, 20895\, United States;X-APPLE-RADIUS=100;X-TITLE=T
 emple Emanuel:geo:0,0
END:VEVENT
BEGIN:VEVENT
UID:17@templeemanuelmd.org
DTSTART;TZID=America/New_York:20220722T183000
DTEND;TZID=America/New_York:20220722T193000
DTSTAMP:20220701T144905Z
URL:https://www.templeemanuelmd.org/events/kabbalat-shabbat-2022-07-22/
SUMMARY:Kabbalat Shabbat
DESCRIPTION:We invite you to join us in-person at 6:00 pm for a half hour o
 f wine and cheese. A sweet\, joyful and shorter Shabbat service begins at 
 6:30.
CATEGORIES:Worship and Holidays
LOCATION:https://us06web.zoom.us/j/81560052518?pwd=ZUs3T256UGpuKzVlc0VCdVU4
 b2NCUT09
END:VEVENT
BEGIN:VEVENT
UID:18@templeemanuelmd.org
DTSTART;TZID=America/New_York:20220729T183000
DTEND;TZID=America/New_York:20220729T193000
DTSTAMP:20220701T144905Z
URL:https://www.templeemanuelmd.org/events/kabbalat-shabbat-2022-07-29/
SUMMARY:Kabbalat Shabbat
DESCRIPTION:We invite you to join us in-person at 6:00 pm for a half hour o
 f wine and cheese. A sweet\, joyful and shorter Shabbat service begins at 
 6:30.
CATEGORIES:Worship and Holidays
LOCATION:https://us06web.zoom.us/j/81560052518?pwd=ZUs3T256UGpuKzVlc0VCdVU4
 b2NCUT09
END:VEVENT
BEGIN:VEVENT
UID:19@templeemanuelmd.org
DTSTART;TZID=America/New_York:20220805T183000
DTEND;TZID=America/New_York:20220805T193000
DTSTAMP:20220701T144905Z
URL:https://www.templeemanuelmd.org/events/kabbalat-shabbat-2022-08-05/
SUMMARY:Kabbalat Shabbat
DESCRIPTION:We invite you to join us in-person at 6:00 pm for a half hour o
 f wine and cheese. A sweet\, joyful and shorter Shabbat service begins at 
 6:30.
CATEGORIES:Worship and Holidays
LOCATION:https://us06web.zoom.us/j/81560052518?pwd=ZUs3T256UGpuKzVlc0VCdVU4
 b2NCUT09
END:VEVENT
BEGIN:VEVENT
UID:20@templeemanuelmd.org
DTSTART;TZID=America/New_York:20220812T183000
DTEND;TZID=America/New_York:20220812T193000
DTSTAMP:20220701T144905Z
URL:https://www.templeemanuelmd.org/events/kabbalat-shabbat-2022-08-12/
SUMMARY:Kabbalat Shabbat
DESCRIPTION:We invite you to join us in-person at 6:00 pm for a half hour o
 f wine and cheese. A sweet\, joyful and shorter Shabbat service begins at 
 6:30.
CATEGORIES:Worship and Holidays
LOCATION:https://us06web.zoom.us/j/81560052518?pwd=ZUs3T256UGpuKzVlc0VCdVU4
 b2NCUT09
END:VEVENT
BEGIN:VEVENT
UID:69@templeemanuelmd.org
DTSTART;TZID=America/New_York:20220819T173000
DTEND;TZID=America/New_York:20220819T180000
DTSTAMP:20220818T192250Z
URL:https://www.templeemanuelmd.org/events/tot-shabbat-2/
SUMMARY:Tot Shabbat
DESCRIPTION:Join Cantor Lindsay in the front courtyard for singing\, dancin
 g\, and welcoming Shabbat!
CATEGORIES:Worship and Holidays
END:VEVENT
BEGIN:VEVENT
UID:21@templeemanuelmd.org
DTSTART;TZID=America/New_York:20220819T183000
DTEND;TZID=America/New_York:20220819T193000
DTSTAMP:20220701T144905Z
URL:https://www.templeemanuelmd.org/events/kabbalat-shabbat-2022-08-19/
SUMMARY:Kabbalat Shabbat
DESCRIPTION:We invite you to join us in-person at 6:00 pm for a half hour o
 f wine and cheese. A sweet\, joyful and shorter Shabbat service begins at 
 6:30.
CATEGORIES:Worship and Holidays
LOCATION:https://us06web.zoom.us/j/81560052518?pwd=ZUs3T256UGpuKzVlc0VCdVU4
 b2NCUT09
END:VEVENT
BEGIN:VEVENT
UID:116@templeemanuelmd.org
DTSTART;TZID=America/New_York:20220820T090000
DTEND;TZID=America/New_York:20220820T100000
DTSTAMP:20220818T194811Z
URL:https://www.templeemanuelmd.org/events/torah-study/
SUMMARY:Torah Study
DESCRIPTION:Join Torah Study on Zoom
CATEGORIES:Temple Activities
END:VEVENT
BEGIN:VEVENT
UID:120@templeemanuelmd.org
DTSTART;TZID=America/New_York:20220821T083000
DTEND;TZID=America/New_York:20220821T113000
DTSTAMP:20220818T203347Z
URL:https://www.templeemanuelmd.org/events/brotherhood-clean-up-day/
SUMMARY:Brotherhood Clean Up Day
DESCRIPTION:\n 	Bring your wheelbarrow\, power and manual lawn and garden t
 ools\n 	Some of the jobs include\n\n 	trimming low level branches that are
  encroaching on parking lot\, sidewalks\, building and windows\n 	picking 
 up branches in Gan Emanuel\n 	cleanup of garden area by back steps\n 	clea
 nup where needed garden areas by front entrance\n 	pulling low level vines
  but not Kudzu which is too evasive for this limited cleanup\n 	planting m
 ums or if there are ideas on what to plant in planters by lower door\n\n\n
  	No experience necessary!\n 	Join us for all or part of the morning\n
CATEGORIES:Brotherhood,Temple Activities
END:VEVENT
BEGIN:VEVENT
UID:22@templeemanuelmd.org
DTSTART;TZID=America/New_York:20220826T183000
DTEND;TZID=America/New_York:20220826T193000
DTSTAMP:20220701T144905Z
URL:https://www.templeemanuelmd.org/events/kabbalat-shabbat-2022-08-26/
SUMMARY:Kabbalat Shabbat
DESCRIPTION:We invite you to join us in-person at 6:00 pm for a half hour o
 f wine and cheese. A sweet\, joyful and shorter Shabbat service begins at 
 6:30.
CATEGORIES:Worship and Holidays
LOCATION:https://us06web.zoom.us/j/81560052518?pwd=ZUs3T256UGpuKzVlc0VCdVU4
 b2NCUT09
END:VEVENT
BEGIN:VEVENT
UID:72@templeemanuelmd.org
DTSTART;TZID=America/New_York:20220827T090000
DTEND;TZID=America/New_York:20220827T100000
DTSTAMP:20220818T194646Z
URL:https://www.templeemanuelmd.org/events/torah-study-2022-08-27/
SUMMARY:Torah Study
DESCRIPTION:Join Torah Study on Zoom
CATEGORIES:Temple Activities
END:VEVENT
BEGIN:VEVENT
UID:121@templeemanuelmd.org
DTSTART;TZID=America/New_York:20220828T100000
DTEND;TZID=America/New_York:20220828T130000
DTSTAMP:20220818T203649Z
URL:https://www.templeemanuelmd.org/events/religious-school-faculty-meetin
 g/
SUMMARY:Religious School Faculty Meeting
DESCRIPTION:
END:VEVENT
BEGIN:VEVENT
UID:32@templeemanuelmd.org
DTSTART;TZID=America/New_York;VALUE=DATE:20220829
DTEND;TZID=America/New_York;VALUE=DATE:20220830
DTSTAMP:20220708T183129Z
URL:https://www.templeemanuelmd.org/events/ecc-first-day-of-school/
SUMMARY:ECC First Day of School
DESCRIPTION:
CATEGORIES:ECC
END:VEVENT
BEGIN:VEVENT
UID:122@templeemanuelmd.org
DTSTART;TZID=America/New_York:20220830T193000
DTEND;TZID=America/New_York:20220830T210000
DTSTAMP:20220818T211347Z
URL:https://www.templeemanuelmd.org/events/board-of-education-meeting/
SUMMARY:Board of Education Meeting
DESCRIPTION:
CATEGORIES:Religious School,Temple Activities
END:VEVENT
BEGIN:VEVENT
UID:123@templeemanuelmd.org
DTSTART;TZID=America/New_York:20220901T190000
DTEND;TZID=America/New_York:20220901T203000
DTSTAMP:20220818T211445Z
URL:https://www.templeemanuelmd.org/events/executive-committee-meeting/
SUMMARY:Executive Committee Meeting
DESCRIPTION:
CATEGORIES:Temple Activities
END:VEVENT
BEGIN:VEVENT
UID:128@templeemanuelmd.org
DTSTART;TZID=America/New_York:20220902T083000
DTEND;TZID=America/New_York:20220902T093000
DTSTAMP:20220818T212627Z
URL:https://www.templeemanuelmd.org/events/interfaith-coffee-hour-with-rab
 bi-adam/
SUMMARY:Interfaith Coffee Hour with Rabbi Adam
DESCRIPTION:Join Rabbi Adam for an informal hour of coffee\, breakfast trea
 ts\, and conversation around different topics relating to interfaith fam
 ilies and raising children in an interfaith environment.  In September\, 
 we'll focus our discussion around the upcoming High Holy Days and how we c
 an talk to our children about God during these days of introspection and r
 enewal.  Come every month or drop in when you can.  All are welcome to s
 tay for Ta'am Shel Shabbat\, our Early Childhood Center's Friday morning 
 Shabbat celebration\, from 9:30am-10:00am
CATEGORIES:Temple Activities
END:VEVENT
BEGIN:VEVENT
UID:117@templeemanuelmd.org
DTSTART;TZID=America/New_York:20220902T183000
DTEND;TZID=America/New_York:20220902T213000
DTSTAMP:20220818T203050Z
URL:https://www.templeemanuelmd.org/events/shabbat-service-with-mizmor-lsh
 abbat-band-board-installation/
SUMMARY:Shabbat Service Elul 1 followed by BBQ Shabbat Dinner
DESCRIPTION:Join us for Shabbat Service with the Mizmor L'Shabbat Band and 
 Board Installation.\n\nBBQ Dinner to follow.\n\nClick here join by Zoom or
  Facebook\n\n\n$22/adult\; $11/child 5-12 years old\; free under 5\n$75 ma
 ximum per household\nTo RSVP\, click here
CATEGORIES:Worship and Holidays
END:VEVENT
BEGIN:VEVENT
UID:73@templeemanuelmd.org
DTSTART;TZID=America/New_York:20220903T090000
DTEND;TZID=America/New_York:20220903T100000
DTSTAMP:20220818T194646Z
URL:https://www.templeemanuelmd.org/events/torah-study-2022-09-03/
SUMMARY:Torah Study
DESCRIPTION:Join Torah Study on Zoom
CATEGORIES:Temple Activities
END:VEVENT
BEGIN:VEVENT
UID:119@templeemanuelmd.org
DTSTART;TZID=America/New_York:20220903T100000
DTEND;TZID=America/New_York:20220903T120000
DTSTAMP:20220818T203222Z
URL:https://www.templeemanuelmd.org/events/shabbat-service-and-bat-mitzvah
 -of-gabriela-ross/
SUMMARY:Shabbat Service and Bat Mitzvah of Gabriela Ross
DESCRIPTION:
END:VEVENT
BEGIN:VEVENT
UID:33@templeemanuelmd.org
DTSTART;TZID=America/New_York;VALUE=DATE:20220905
DTEND;TZID=America/New_York;VALUE=DATE:20220906
DTSTAMP:20220708T183528Z
URL:https://www.templeemanuelmd.org/events/labor-day-building-closed/
SUMMARY:Labor Day - Building Closed
DESCRIPTION:
CATEGORIES:Temple Activities
END:VEVENT
BEGIN:VEVENT
UID:124@templeemanuelmd.org
DTSTART;TZID=America/New_York:20220906T194500
DTEND;TZID=America/New_York:20220906T204500
DTSTAMP:20220818T211551Z
URL:https://www.templeemanuelmd.org/events/kol-zimrah-choir-rehearsal/
SUMMARY:Kol Zimrah - Choir Rehearsal
DESCRIPTION:
CATEGORIES:Temple Activities
END:VEVENT
BEGIN:VEVENT
UID:34@templeemanuelmd.org
DTSTART;TZID=America/New_York:20220907T190000
DTEND;TZID=America/New_York:20220907T190000
DTSTAMP:20220708T183751Z
URL:https://www.templeemanuelmd.org/events/ecc-new-school-year-reception/
SUMMARY:ECC New School Year Reception
DESCRIPTION:
END:VEVENT
BEGIN:VEVENT
UID:125@templeemanuelmd.org
DTSTART;TZID=America/New_York:20220907T193000
DTEND;TZID=America/New_York:20220907T210000
DTSTAMP:20220818T211805Z
URL:https://www.templeemanuelmd.org/events/brotherhood-bbq/
SUMMARY:Brotherhood BBQ
DESCRIPTION:
CATEGORIES:Brotherhood,Temple Activities
END:VEVENT
BEGIN:VEVENT
UID:126@templeemanuelmd.org
DTSTART;TZID=America/New_York:20220909T183000
DTEND;TZID=America/New_York:20220909T220000
DTSTAMP:20220818T212412Z
URL:https://www.templeemanuelmd.org/events/shabbat-dinner-and-service-hono
 ring-rabbi-stone/
SUMMARY:Shabbat Dinner and Service Honoring Rabbi Stone - Elul 2
DESCRIPTION:\n\n\n7:30pm Shabbat Service Honoring Rabbi Warren Stone\nDedic
 ation of the Mural in honor of Rabbi Stone's retirement\nTributes and spe
 akers!\nShabbat Dinner at 6:30\n$36/adult\; $18/child 12 and under\nProcee
 ds will benefit the Warren G. Stone Rabbinic Endowment\nTo sign up for din
 ner\, click here\n\nClick here join by Zoom or Facebook
CATEGORIES:Temple Activities,Worship and Holidays
END:VEVENT
BEGIN:VEVENT
UID:74@templeemanuelmd.org
DTSTART;TZID=America/New_York:20220910T090000
DTEND;TZID=America/New_York:20220910T100000
DTSTAMP:20220818T194646Z
URL:https://www.templeemanuelmd.org/events/torah-study-2022-09-10/
SUMMARY:Torah Study
DESCRIPTION:Join Torah Study on Zoom
CATEGORIES:Temple Activities
END:VEVENT
BEGIN:VEVENT
UID:127@templeemanuelmd.org
DTSTART;TZID=America/New_York:20220910T100000
DTEND;TZID=America/New_York:20220910T113000
DTSTAMP:20220818T220927Z
URL:https://www.templeemanuelmd.org/events/simchat-shabbat/
SUMMARY:Simchat Shabbat
DESCRIPTION:On the 2nd Saturday of the month\, join Rabbi Adam and Cantor L
 indsay for a joyful and fun Shabbat service appropriate for all ages. ther
 e will be lots of singing and dancing\, a creative Torah reading\, and a s
 tory. Kol Ruach\, Temple Emanuel's Junior Choir\, will help lead worship a
 nd we will end together with a Kiddush lunch.
CATEGORIES:Worship and Holidays
END:VEVENT
BEGIN:VEVENT
UID:129@templeemanuelmd.org
DTSTART;TZID=America/New_York:20220911T090000
DTEND;TZID=America/New_York:20220911T110000
DTSTAMP:20220818T212741Z
URL:https://www.templeemanuelmd.org/events/religious-school-opening-day/
SUMMARY:Religious School - Opening Day
DESCRIPTION:
CATEGORIES:Religious School
END:VEVENT
BEGIN:VEVENT
UID:130@templeemanuelmd.org
DTSTART;TZID=America/New_York:20220911T113000
DTEND;TZID=America/New_York:20220911T130000
DTSTAMP:20220818T212818Z
URL:https://www.templeemanuelmd.org/events/sunday-hebrew-school-opening-da
 y/
SUMMARY:Sunday Hebrew School - Opening Day
DESCRIPTION:
CATEGORIES:Religious School
END:VEVENT
BEGIN:VEVENT
UID:131@templeemanuelmd.org
DTSTART;TZID=America/New_York:20220911T120000
DTEND;TZID=America/New_York:20220911T133000
DTSTAMP:20220818T212920Z
URL:https://www.templeemanuelmd.org/events/global-mitzvah-meeting/
SUMMARY:Global Mitzvah Meeting
DESCRIPTION:
CATEGORIES:Temple Activities
END:VEVENT
BEGIN:VEVENT
UID:132@templeemanuelmd.org
DTSTART;TZID=America/New_York:20220911T160000
DTEND;TZID=America/New_York:20220911T173000
DTSTAMP:20220818T213006Z
URL:https://www.templeemanuelmd.org/events/wrj-readers-salon/
SUMMARY:WRJ Readers' Salon
DESCRIPTION:
END:VEVENT
BEGIN:VEVENT
UID:134@templeemanuelmd.org
DTSTART;TZID=America/New_York:20220913T161500
DTEND;TZID=America/New_York:20220913T180000
DTSTAMP:20220818T213430Z
URL:https://www.templeemanuelmd.org/events/mid-week-hebrew-opening-day/
SUMMARY:Mid-week Hebrew - Opening Day
DESCRIPTION:
CATEGORIES:Religious School
END:VEVENT
BEGIN:VEVENT
UID:135@templeemanuelmd.org
DTSTART;TZID=America/New_York:20220913T173000
DTEND;TZID=America/New_York:20220913T193000
DTSTAMP:20220818T213510Z
URL:https://www.templeemanuelmd.org/events/upper-school-dinner-and-program
 -opening-day/
SUMMARY:Upper School Dinner and Program - Opening Day
DESCRIPTION:
CATEGORIES:Religious School
END:VEVENT
BEGIN:VEVENT
UID:136@templeemanuelmd.org
DTSTART;TZID=America/New_York:20220913T194500
DTEND;TZID=America/New_York:20220913T210000
DTSTAMP:20220818T213550Z
URL:https://www.templeemanuelmd.org/events/kol-zimrah-choir-rehearsal-2/
SUMMARY:Kol Zimrah - Choir Rehearsal
DESCRIPTION:
END:VEVENT
BEGIN:VEVENT
UID:133@templeemanuelmd.org
DTSTART;TZID=America/New_York:20220914T173000
DTEND;TZID=America/New_York:20220914T190000
DTSTAMP:20220818T213339Z
URL:https://www.templeemanuelmd.org/events/single-sages-dinner/
SUMMARY:Single Sages Dinner
DESCRIPTION:For singles over 60\; new members welcome\nBring your own food 
 or we can order sandwiches (no pork\, shellfish\, or nuts)\nDiscussion top
 ic - ethnic restaurants and whether you've been to that country\nFor more 
 information\, please contact Sue Rudo\, suearudo@verizon.net\, or 301-598-
 1153
CATEGORIES:Temple Activities
END:VEVENT
BEGIN:VEVENT
UID:138@templeemanuelmd.org
DTSTART;TZID=America/New_York:20220914T190000
DTEND;TZID=America/New_York:20220914T203000
DTSTAMP:20220818T221233Z
URL:https://www.templeemanuelmd.org/events/csac-meeting/
SUMMARY:CSAC Meeting
DESCRIPTION:
CATEGORIES:Temple Activities
END:VEVENT
BEGIN:VEVENT
UID:137@templeemanuelmd.org
DTSTART;TZID=America/New_York:20220914T190000
DTEND;TZID=America/New_York:20220914T203000
DTSTAMP:20220818T221202Z
URL:https://www.templeemanuelmd.org/events/70th-anniversary-committee/
SUMMARY:70th Anniversary Committee
DESCRIPTION:
CATEGORIES:Temple Activities
END:VEVENT
BEGIN:VTIMEZONE
TZID:America/New_York
X-LIC-LOCATION:America/New_York
BEGIN:STANDARD
DTSTART:20021027T010000
TZOFFSETFROM:-0400
TZOFFSETTO:-0500
TZNAME:EST
END:STANDARD
BEGIN:DAYLIGHT
DTSTART:20030406T030000
TZOFFSETFROM:-0500
TZOFFSETTO:-0400
TZNAME:EDT
END:DAYLIGHT
BEGIN:STANDARD
DTSTART:20031026T010000
TZOFFSETFROM:-0400
TZOFFSETTO:-0500
TZNAME:EST
END:STANDARD
BEGIN:DAYLIGHT
DTSTART:20040404T030000
TZOFFSETFROM:-0500
TZOFFSETTO:-0400
TZNAME:EDT
END:DAYLIGHT
BEGIN:STANDARD
DTSTART:20041031T010000
TZOFFSETFROM:-0400
TZOFFSETTO:-0500
TZNAME:EST
END:STANDARD
BEGIN:DAYLIGHT
DTSTART:20050403T030000
TZOFFSETFROM:-0500
TZOFFSETTO:-0400
TZNAME:EDT
END:DAYLIGHT
BEGIN:STANDARD
DTSTART:20051030T010000
TZOFFSETFROM:-0400
TZOFFSETTO:-0500
TZNAME:EST
END:STANDARD
BEGIN:DAYLIGHT
DTSTART:20060402T030000
TZOFFSETFROM:-0500
TZOFFSETTO:-0400
TZNAME:EDT
END:DAYLIGHT
BEGIN:STANDARD
DTSTART:20061029T010000
TZOFFSETFROM:-0400
TZOFFSETTO:-0500
TZNAME:EST
END:STANDARD
BEGIN:DAYLIGHT
DTSTART:20070311T030000
TZOFFSETFROM:-0500
TZOFFSETTO:-0400
TZNAME:EDT
END:DAYLIGHT
BEGIN:STANDARD
DTSTART:20071104T010000
TZOFFSETFROM:-0400
TZOFFSETTO:-0500
TZNAME:EST
END:STANDARD
BEGIN:DAYLIGHT
DTSTART:20080309T030000
TZOFFSETFROM:-0500
TZOFFSETTO:-0400
TZNAME:EDT
END:DAYLIGHT
BEGIN:STANDARD
DTSTART:20081102T010000
TZOFFSETFROM:-0400
TZOFFSETTO:-0500
TZNAME:EST
END:STANDARD
BEGIN:DAYLIGHT
DTSTART:20090308T030000
TZOFFSETFROM:-0500
TZOFFSETTO:-0400
TZNAME:EDT
END:DAYLIGHT
BEGIN:STANDARD
DTSTART:20091101T010000
TZOFFSETFROM:-0400
TZOFFSETTO:-0500
TZNAME:EST
END:STANDARD
BEGIN:DAYLIGHT
DTSTART:20100314T030000
TZOFFSETFROM:-0500
TZOFFSETTO:-0400
TZNAME:EDT
END:DAYLIGHT
BEGIN:STANDARD
DTSTART:20101107T010000
TZOFFSETFROM:-0400
TZOFFSETTO:-0500
TZNAME:EST
END:STANDARD
BEGIN:DAYLIGHT
DTSTART:20110313T030000
TZOFFSETFROM:-0500
TZOFFSETTO:-0400
TZNAME:EDT
END:DAYLIGHT
BEGIN:STANDARD
DTSTART:20111106T010000
TZOFFSETFROM:-0400
TZOFFSETTO:-0500
TZNAME:EST
END:STANDARD
BEGIN:DAYLIGHT
DTSTART:20120311T030000
TZOFFSETFROM:-0500
TZOFFSETTO:-0400
TZNAME:EDT
END:DAYLIGHT
BEGIN:STANDARD
DTSTART:20121104T010000
TZOFFSETFROM:-0400
TZOFFSETTO:-0500
TZNAME:EST
END:STANDARD
BEGIN:DAYLIGHT
DTSTART:20130310T030000
TZOFFSETFROM:-0500
TZOFFSETTO:-0400
TZNAME:EDT
END:DAYLIGHT
BEGIN:STANDARD
DTSTART:20131103T010000
TZOFFSETFROM:-0400
TZOFFSETTO:-0500
TZNAME:EST
END:STANDARD
BEGIN:DAYLIGHT
DTSTART:20140309T030000
TZOFFSETFROM:-0500
TZOFFSETTO:-0400
TZNAME:EDT
END:DAYLIGHT
BEGIN:STANDARD
DTSTART:20141102T010000
TZOFFSETFROM:-0400
TZOFFSETTO:-0500
TZNAME:EST
END:STANDARD
BEGIN:DAYLIGHT
DTSTART:20150308T030000
TZOFFSETFROM:-0500
TZOFFSETTO:-0400
TZNAME:EDT
END:DAYLIGHT
BEGIN:STANDARD
DTSTART:20151101T010000
TZOFFSETFROM:-0400
TZOFFSETTO:-0500
TZNAME:EST
END:STANDARD
BEGIN:DAYLIGHT
DTSTART:20160313T030000
TZOFFSETFROM:-0500
TZOFFSETTO:-0400
TZNAME:EDT
END:DAYLIGHT
BEGIN:STANDARD
DTSTART:20161106T010000
TZOFFSETFROM:-0400
TZOFFSETTO:-0500
TZNAME:EST
END:STANDARD
BEGIN:DAYLIGHT
DTSTART:20170312T030000
TZOFFSETFROM:-0500
TZOFFSETTO:-0400
TZNAME:EDT
END:DAYLIGHT
BEGIN:STANDARD
DTSTART:20171105T010000
TZOFFSETFROM:-0400
TZOFFSETTO:-0500
TZNAME:EST
END:STANDARD
BEGIN:DAYLIGHT
DTSTART:20180311T030000
TZOFFSETFROM:-0500
TZOFFSETTO:-0400
TZNAME:EDT
END:DAYLIGHT
BEGIN:STANDARD
DTSTART:20181104T010000
TZOFFSETFROM:-0400
TZOFFSETTO:-0500
TZNAME:EST
END:STANDARD
BEGIN:DAYLIGHT
DTSTART:20190310T030000
TZOFFSETFROM:-0500
TZOFFSETTO:-0400
TZNAME:EDT
END:DAYLIGHT
BEGIN:STANDARD
DTSTART:20191103T010000
TZOFFSETFROM:-0400
TZOFFSETTO:-0500
TZNAME:EST
END:STANDARD
BEGIN:DAYLIGHT
DTSTART:20200308T030000
TZOFFSETFROM:-0500
TZOFFSETTO:-0400
TZNAME:EDT
END:DAYLIGHT
BEGIN:STANDARD
DTSTART:20201101T010000
TZOFFSETFROM:-0400
TZOFFSETTO:-0500
TZNAME:EST
END:STANDARD
BEGIN:DAYLIGHT
DTSTART:20210314T030000
TZOFFSETFROM:-0500
TZOFFSETTO:-0400
TZNAME:EDT
END:DAYLIGHT
BEGIN:STANDARD
DTSTART:20211107T010000
TZOFFSETFROM:-0400
TZOFFSETTO:-0500
TZNAME:EST
END:STANDARD
BEGIN:DAYLIGHT
DTSTART:20220313T030000
TZOFFSETFROM:-0500
TZOFFSETTO:-0400
TZNAME:EDT
END:DAYLIGHT
END:VTIMEZONE
END:VCALENDAR